BEGIN:VCALENDAR
VERSION:2.0
PRODID:-//Feuerwehr Pförring - ECPv6.15.13.1//NONSGML v1.0//EN
CALSCALE:GREGORIAN
METHOD:PUBLISH
X-ORIGINAL-URL:https://feuerwehr.pfoerring.de
X-WR-CALDESC:Veranstaltungen für Feuerwehr Pförring
REFRESH-INTERVAL;VALUE=DURATION:PT1H
X-Robots-Tag:noindex
X-PUBLISHED-TTL:PT1H
BEGIN:VTIMEZONE
TZID:Europe/Berlin
BEGIN:DAYLIGHT
TZOFFSETFROM:+0100
TZOFFSETTO:+0200
TZNAME:CEST
DTSTART:20240331T010000
END:DAYLIGHT
BEGIN:STANDARD
TZOFFSETFROM:+0200
TZOFFSETTO:+0100
TZNAME:CET
DTSTART:20241027T010000
END:STANDARD
BEGIN:DAYLIGHT
TZOFFSETFROM:+0100
TZOFFSETTO:+0200
TZNAME:CEST
DTSTART:20250330T010000
END:DAYLIGHT
BEGIN:STANDARD
TZOFFSETFROM:+0200
TZOFFSETTO:+0100
TZNAME:CET
DTSTART:20251026T010000
END:STANDARD
BEGIN:DAYLIGHT
TZOFFSETFROM:+0100
TZOFFSETTO:+0200
TZNAME:CEST
DTSTART:20260329T010000
END:DAYLIGHT
BEGIN:STANDARD
TZOFFSETFROM:+0200
TZOFFSETTO:+0100
TZNAME:CET
DTSTART:20261025T010000
END:STANDARD
END:VTIMEZONE
BEGIN:VEVENT
DTSTART;TZID=Europe/Berlin:20250901T190000
DTEND;TZID=Europe/Berlin:20250901T210000
DTSTAMP:20260425T133702
CREATED:20250127T094455Z
LAST-MODIFIED:20250127T094455Z
UID:4618-1756753200-1756760400@feuerwehr.pfoerring.de
SUMMARY:Übungsfahrten Boot
DESCRIPTION:
URL:https://feuerwehr.pfoerring.de/event/uebungsfahrten-boot-4/
LOCATION:Feuerwehrgerätehaus\, Mittersteigweg 6\, Pförring\, Bayern\, 85104\, Deutschland
CATEGORIES:Bootsfahrten
END:VEVENT
BEGIN:VEVENT
DTSTART;TZID=Europe/Berlin:20250901T190000
DTEND;TZID=Europe/Berlin:20250901T210000
DTSTAMP:20260425T133702
CREATED:20250127T104215Z
LAST-MODIFIED:20250127T104215Z
UID:4660-1756753200-1756760400@feuerwehr.pfoerring.de
SUMMARY:Übung
DESCRIPTION:
URL:https://feuerwehr.pfoerring.de/event/uebung-52/
LOCATION:Feuerwehrgerätehaus\, Mittersteigweg 6\, Pförring\, Bayern\, 85104\, Deutschland
CATEGORIES:Übung
END:VEVENT
BEGIN:VEVENT
DTSTART;TZID=Europe/Berlin:20250907T100000
DTEND;TZID=Europe/Berlin:20250907T150000
DTSTAMP:20260425T133702
CREATED:20250105T174523Z
LAST-MODIFIED:20250105T174523Z
UID:4513-1757239200-1757257200@feuerwehr.pfoerring.de
SUMMARY:Jahrtag
DESCRIPTION:
URL:https://feuerwehr.pfoerring.de/event/jahrtag-3/
LOCATION:Pfarrheim\, Marktplatz 15\, Pförring\, Bayern\, 85104\, Deutschland
CATEGORIES:Veranstaltungen
END:VEVENT
BEGIN:VEVENT
DTSTART;VALUE=DATE:20250913
DTEND;VALUE=DATE:20250914
DTSTAMP:20260425T133702
CREATED:20250127T094533Z
LAST-MODIFIED:20250127T094533Z
UID:4620-1757721600-1757807999@feuerwehr.pfoerring.de
SUMMARY:Übungsfahrten Boot
DESCRIPTION:
URL:https://feuerwehr.pfoerring.de/event/uebungsfahrten-boot-5/
LOCATION:Feuerwehrgerätehaus\, Mittersteigweg 6\, Pförring\, Bayern\, 85104\, Deutschland
CATEGORIES:Bootsfahrten
END:VEVENT
BEGIN:VEVENT
DTSTART;TZID=Europe/Berlin:20250915T190000
DTEND;TZID=Europe/Berlin:20250915T210000
DTSTAMP:20260425T133702
CREATED:20250127T104315Z
LAST-MODIFIED:20250127T104315Z
UID:4662-1757962800-1757970000@feuerwehr.pfoerring.de
SUMMARY:Einsatzübung
DESCRIPTION:
URL:https://feuerwehr.pfoerring.de/event/einsatzuebung-3/
LOCATION:Feuerwehrgerätehaus\, Mittersteigweg 6\, Pförring\, Bayern\, 85104\, Deutschland
CATEGORIES:Übung
END:VEVENT
BEGIN:VEVENT
DTSTART;TZID=Europe/Berlin:20250922T190000
DTEND;TZID=Europe/Berlin:20250922T210000
DTSTAMP:20260425T133702
CREATED:20250127T104410Z
LAST-MODIFIED:20250127T104410Z
UID:4664-1758567600-1758574800@feuerwehr.pfoerring.de
SUMMARY:AT Einsatzübung
DESCRIPTION:
URL:https://feuerwehr.pfoerring.de/event/at-einsatzuebung-3/
LOCATION:Feuerwehrgerätehaus\, Mittersteigweg 6\, Pförring\, Bayern\, 85104\, Deutschland
CATEGORIES:Atemschutz
END:VEVENT
BEGIN:VEVENT
DTSTART;TZID=Europe/Berlin:20250924T190000
DTEND;TZID=Europe/Berlin:20250924T210000
DTSTAMP:20260425T133702
CREATED:20250127T093905Z
LAST-MODIFIED:20250127T093905Z
UID:4606-1758740400-1758747600@feuerwehr.pfoerring.de
SUMMARY:Frauenstammtisch
DESCRIPTION:
URL:https://feuerwehr.pfoerring.de/event/frauenstammtisch-12/
LOCATION:Feuerwehrgerätehaus\, Mittersteigweg 6\, Pförring\, Bayern\, 85104\, Deutschland
CATEGORIES:Frauenstammtisch
END:VEVENT
BEGIN:VEVENT
DTSTART;TZID=Europe/Berlin:20250926T183000
DTEND;TZID=Europe/Berlin:20250926T210000
DTSTAMP:20260425T133702
CREATED:20250127T144106Z
LAST-MODIFIED:20250127T144107Z
UID:4710-1758911400-1758920400@feuerwehr.pfoerring.de
SUMMARY:Seniorenstammtisch
DESCRIPTION:
URL:https://feuerwehr.pfoerring.de/event/seniorenstammtisch-8/
LOCATION:Feuerwehrgerätehaus\, Mittersteigweg 6\, Pförring\, Bayern\, 85104\, Deutschland
CATEGORIES:Seniorenstammtisch
END:VEVENT
BEGIN:VEVENT
DTSTART;VALUE=DATE:20250927
DTEND;VALUE=DATE:20250928
DTSTAMP:20260425T133702
CREATED:20250127T104531Z
LAST-MODIFIED:20250127T104531Z
UID:4666-1758931200-1759017599@feuerwehr.pfoerring.de
SUMMARY:K-Übung Wasser
DESCRIPTION:
URL:https://feuerwehr.pfoerring.de/event/k-uebung-wasser/
LOCATION:Feuerwehrgerätehaus\, Mittersteigweg 6\, Pförring\, Bayern\, 85104\, Deutschland
CATEGORIES:Übung
END:VEVENT
BEGIN:VEVENT
DTSTART;TZID=Europe/Berlin:20250929T190000
DTEND;TZID=Europe/Berlin:20250929T210000
DTSTAMP:20260425T133702
CREATED:20250127T104624Z
LAST-MODIFIED:20250127T104624Z
UID:4668-1759172400-1759179600@feuerwehr.pfoerring.de
SUMMARY:Gerätewartung
DESCRIPTION:
URL:https://feuerwehr.pfoerring.de/event/geraetewartung-33/
LOCATION:Feuerwehrgerätehaus\, Mittersteigweg 6\, Pförring\, Bayern\, 85104\, Deutschland
CATEGORIES:Gerätewartung
END:VEVENT
END:VCALENDAR