BEGIN:VCALENDAR
VERSION:2.0
PRODID:-//Feuerwehr Pförring - ECPv6.15.13.1//NONSGML v1.0//EN
CALSCALE:GREGORIAN
METHOD:PUBLISH
X-ORIGINAL-URL:https://feuerwehr.pfoerring.de
X-WR-CALDESC:Veranstaltungen für Feuerwehr Pförring
REFRESH-INTERVAL;VALUE=DURATION:PT1H
X-Robots-Tag:noindex
X-PUBLISHED-TTL:PT1H
BEGIN:VTIMEZONE
TZID:Europe/Berlin
BEGIN:DAYLIGHT
TZOFFSETFROM:+0100
TZOFFSETTO:+0200
TZNAME:CEST
DTSTART:20240331T010000
END:DAYLIGHT
BEGIN:STANDARD
TZOFFSETFROM:+0200
TZOFFSETTO:+0100
TZNAME:CET
DTSTART:20241027T010000
END:STANDARD
BEGIN:DAYLIGHT
TZOFFSETFROM:+0100
TZOFFSETTO:+0200
TZNAME:CEST
DTSTART:20250330T010000
END:DAYLIGHT
BEGIN:STANDARD
TZOFFSETFROM:+0200
TZOFFSETTO:+0100
TZNAME:CET
DTSTART:20251026T010000
END:STANDARD
BEGIN:DAYLIGHT
TZOFFSETFROM:+0100
TZOFFSETTO:+0200
TZNAME:CEST
DTSTART:20260329T010000
END:DAYLIGHT
BEGIN:STANDARD
TZOFFSETFROM:+0200
TZOFFSETTO:+0100
TZNAME:CET
DTSTART:20261025T010000
END:STANDARD
END:VTIMEZONE
BEGIN:VEVENT
DTSTART;TZID=Europe/Berlin:20250501T100000
DTEND;TZID=Europe/Berlin:20250501T170000
DTSTAMP:20260421T165416
CREATED:20250105T174119Z
LAST-MODIFIED:20250105T174119Z
UID:4505-1746093600-1746118800@feuerwehr.pfoerring.de
SUMMARY:Maibaum aufstellen in Pförring und Gaden
DESCRIPTION:
URL:https://feuerwehr.pfoerring.de/event/maibaum-aufstellen-in-pfoerring-und-gaden/
LOCATION:Feuerwehrgerätehaus\, Mittersteigweg 6\, Pförring\, Bayern\, 85104\, Deutschland
CATEGORIES:Veranstaltungen
END:VEVENT
BEGIN:VEVENT
DTSTART;TZID=Europe/Berlin:20250502T170000
DTEND;TZID=Europe/Berlin:20250502T190000
DTSTAMP:20260421T165416
CREATED:20250105T180338Z
LAST-MODIFIED:20250105T180338Z
UID:4543-1746205200-1746212400@feuerwehr.pfoerring.de
SUMMARY:Jugendübung
DESCRIPTION:
URL:https://feuerwehr.pfoerring.de/event/jugenduebung-11/
LOCATION:Feuerwehrgerätehaus\, Mittersteigweg 6\, Pförring\, Bayern\, 85104\, Deutschland
CATEGORIES:Jugend
END:VEVENT
BEGIN:VEVENT
DTSTART;TZID=Europe/Berlin:20250505T190000
DTEND;TZID=Europe/Berlin:20250505T210000
DTSTAMP:20260421T165416
CREATED:20250127T101311Z
LAST-MODIFIED:20250127T101311Z
UID:4630-1746471600-1746478800@feuerwehr.pfoerring.de
SUMMARY:Einsatzübung
DESCRIPTION:
URL:https://feuerwehr.pfoerring.de/event/einsatzuebung/
LOCATION:Feuerwehrgerätehaus\, Mittersteigweg 6\, Pförring\, Bayern\, 85104\, Deutschland
CATEGORIES:Übung
END:VEVENT
BEGIN:VEVENT
DTSTART;TZID=Europe/Berlin:20250508T190000
DTEND;TZID=Europe/Berlin:20250508T210000
DTSTAMP:20260421T165416
CREATED:20250127T093535Z
LAST-MODIFIED:20250127T093535Z
UID:4595-1746730800-1746738000@feuerwehr.pfoerring.de
SUMMARY:Frauenstammtisch
DESCRIPTION:
URL:https://feuerwehr.pfoerring.de/event/frauenstammtisch-7/
LOCATION:Hansbacher\, Am Gewerbepark 2 d\, Pförring\, Bayern\, 85104\, Germany
CATEGORIES:Frauenstammtisch
END:VEVENT
BEGIN:VEVENT
DTSTART;TZID=Europe/Berlin:20250509T170000
DTEND;TZID=Europe/Berlin:20250509T190000
DTSTAMP:20260421T165416
CREATED:20250105T180431Z
LAST-MODIFIED:20250105T180431Z
UID:4545-1746810000-1746817200@feuerwehr.pfoerring.de
SUMMARY:Jugendübung
DESCRIPTION:
URL:https://feuerwehr.pfoerring.de/event/jugenduebung-12/
LOCATION:Feuerwehrgerätehaus\, Mittersteigweg 6\, Pförring\, Bayern\, 85104\, Deutschland
CATEGORIES:Jugend
END:VEVENT
BEGIN:VEVENT
DTSTART;TZID=Europe/Berlin:20250512T190000
DTEND;TZID=Europe/Berlin:20250512T210000
DTSTAMP:20260421T165416
CREATED:20250127T101349Z
LAST-MODIFIED:20250127T101349Z
UID:4632-1747076400-1747083600@feuerwehr.pfoerring.de
SUMMARY:Übung
DESCRIPTION:
URL:https://feuerwehr.pfoerring.de/event/uebung-48/
LOCATION:Feuerwehrgerätehaus\, Mittersteigweg 6\, Pförring\, Bayern\, 85104\, Deutschland
CATEGORIES:Übung
END:VEVENT
BEGIN:VEVENT
DTSTART;TZID=Europe/Berlin:20250519T190000
DTEND;TZID=Europe/Berlin:20250519T210000
DTSTAMP:20260421T165416
CREATED:20250127T101449Z
LAST-MODIFIED:20250127T101450Z
UID:4634-1747681200-1747688400@feuerwehr.pfoerring.de
SUMMARY:AT CSA/Zug
DESCRIPTION:
URL:https://feuerwehr.pfoerring.de/event/at-csa-zug/
LOCATION:Feuerwehrgerätehaus\, Mittersteigweg 6\, Pförring\, Bayern\, 85104\, Deutschland
CATEGORIES:Atemschutz
END:VEVENT
BEGIN:VEVENT
DTSTART;VALUE=DATE:20250523
DTEND;VALUE=DATE:20250525
DTSTAMP:20260421T165416
CREATED:20250127T101611Z
LAST-MODIFIED:20250127T101611Z
UID:4636-1747958400-1748131199@feuerwehr.pfoerring.de
SUMMARY:Sicherheitswache
DESCRIPTION:
URL:https://feuerwehr.pfoerring.de/event/sicherheitswache/
LOCATION:Baggersee
CATEGORIES:Veranstaltungen
END:VEVENT
BEGIN:VEVENT
DTSTART;TZID=Europe/Berlin:20250524T110000
DTEND;TZID=Europe/Berlin:20250524T120000
DTSTAMP:20260421T165416
CREATED:20250105T180516Z
LAST-MODIFIED:20250105T180516Z
UID:4547-1748084400-1748088000@feuerwehr.pfoerring.de
SUMMARY:Jugendübung
DESCRIPTION:
URL:https://feuerwehr.pfoerring.de/event/jugenduebung-13/
LOCATION:Feuerwehrgerätehaus\, Mittersteigweg 6\, Pförring\, Bayern\, 85104\, Deutschland
CATEGORIES:Jugend
END:VEVENT
BEGIN:VEVENT
DTSTART;TZID=Europe/Berlin:20250526T190000
DTEND;TZID=Europe/Berlin:20250526T210000
DTSTAMP:20260421T165416
CREATED:20250127T101707Z
LAST-MODIFIED:20250127T101707Z
UID:4638-1748286000-1748293200@feuerwehr.pfoerring.de
SUMMARY:Gerätewartung
DESCRIPTION:
URL:https://feuerwehr.pfoerring.de/event/geraetewartung-29/
LOCATION:Feuerwehrgerätehaus\, Mittersteigweg 6\, Pförring\, Bayern\, 85104\, Deutschland
CATEGORIES:Gerätewartung
END:VEVENT
END:VCALENDAR