BEGIN:VCALENDAR
VERSION:2.0
PRODID:-//Feuerwehr Pförring - ECPv6.15.13.1//NONSGML v1.0//EN
CALSCALE:GREGORIAN
METHOD:PUBLISH
X-WR-CALNAME:Feuerwehr Pförring
X-ORIGINAL-URL:https://feuerwehr.pfoerring.de
X-WR-CALDESC:Veranstaltungen für Feuerwehr Pförring
REFRESH-INTERVAL;VALUE=DURATION:PT1H
X-Robots-Tag:noindex
X-PUBLISHED-TTL:PT1H
BEGIN:VTIMEZONE
TZID:Europe/Berlin
BEGIN:DAYLIGHT
TZOFFSETFROM:+0100
TZOFFSETTO:+0200
TZNAME:CEST
DTSTART:20240331T010000
END:DAYLIGHT
BEGIN:STANDARD
TZOFFSETFROM:+0200
TZOFFSETTO:+0100
TZNAME:CET
DTSTART:20241027T010000
END:STANDARD
BEGIN:DAYLIGHT
TZOFFSETFROM:+0100
TZOFFSETTO:+0200
TZNAME:CEST
DTSTART:20250330T010000
END:DAYLIGHT
BEGIN:STANDARD
TZOFFSETFROM:+0200
TZOFFSETTO:+0100
TZNAME:CET
DTSTART:20251026T010000
END:STANDARD
BEGIN:DAYLIGHT
TZOFFSETFROM:+0100
TZOFFSETTO:+0200
TZNAME:CEST
DTSTART:20260329T010000
END:DAYLIGHT
BEGIN:STANDARD
TZOFFSETFROM:+0200
TZOFFSETTO:+0100
TZNAME:CET
DTSTART:20261025T010000
END:STANDARD
END:VTIMEZONE
BEGIN:VEVENT
DTSTART;TZID=Europe/Berlin:20250407T190000
DTEND;TZID=Europe/Berlin:20250407T210000
DTSTAMP:20260421T182915
CREATED:20250127T094745Z
LAST-MODIFIED:20250127T094745Z
UID:4622-1744052400-1744059600@feuerwehr.pfoerring.de
SUMMARY:Übung
DESCRIPTION:
URL:https://feuerwehr.pfoerring.de/event/uebung-46/
LOCATION:Feuerwehrgerätehaus\, Mittersteigweg 6\, Pförring\, Bayern\, 85104\, Deutschland
CATEGORIES:Übung
END:VEVENT
BEGIN:VEVENT
DTSTART;TZID=Europe/Berlin:20250409T190000
DTEND;TZID=Europe/Berlin:20250409T210000
DTSTAMP:20260421T182915
CREATED:20250126T094559Z
LAST-MODIFIED:20250126T094559Z
UID:4592-1744225200-1744232400@feuerwehr.pfoerring.de
SUMMARY:Frauenstammtisch
DESCRIPTION:
URL:https://feuerwehr.pfoerring.de/event/frauenstammtisch-6/
LOCATION:Wunderlich\, Neustädter Str. 7\, Pförring\, Bayern\, 85104\, Germany
CATEGORIES:Frauenstammtisch
END:VEVENT
BEGIN:VEVENT
DTSTART;TZID=Europe/Berlin:20250411T170000
DTEND;TZID=Europe/Berlin:20250411T190000
DTSTAMP:20260421T182915
CREATED:20250105T180200Z
LAST-MODIFIED:20250105T180200Z
UID:4539-1744390800-1744398000@feuerwehr.pfoerring.de
SUMMARY:Jugendübung
DESCRIPTION:
URL:https://feuerwehr.pfoerring.de/event/jugenduebung-9/
LOCATION:Feuerwehrgerätehaus\, Mittersteigweg 6\, Pförring\, Bayern\, 85104\, Deutschland
CATEGORIES:Jugend
END:VEVENT
BEGIN:VEVENT
DTSTART;TZID=Europe/Berlin:20250414T190000
DTEND;TZID=Europe/Berlin:20250414T210000
DTSTAMP:20260421T182915
CREATED:20250127T101002Z
LAST-MODIFIED:20250127T101002Z
UID:4624-1744657200-1744664400@feuerwehr.pfoerring.de
SUMMARY:Übung
DESCRIPTION:
URL:https://feuerwehr.pfoerring.de/event/uebung-47/
LOCATION:Feuerwehrgerätehaus\, Mittersteigweg 6\, Pförring\, Bayern\, 85104\, Deutschland
CATEGORIES:Übung
END:VEVENT
BEGIN:VEVENT
DTSTART;TZID=Europe/Berlin:20250425T183000
DTEND;TZID=Europe/Berlin:20250425T210000
DTSTAMP:20260421T182915
CREATED:20250127T142925Z
LAST-MODIFIED:20250127T142925Z
UID:4697-1745605800-1745614800@feuerwehr.pfoerring.de
SUMMARY:Seniorenstammtisch
DESCRIPTION:
URL:https://feuerwehr.pfoerring.de/event/seniorenstammtisch-4/
LOCATION:Feuerwehrgerätehaus\, Mittersteigweg 6\, Pförring\, Bayern\, 85104\, Deutschland
CATEGORIES:Seniorenstammtisch
END:VEVENT
BEGIN:VEVENT
DTSTART;TZID=Europe/Berlin:20250426T110000
DTEND;TZID=Europe/Berlin:20250426T120000
DTSTAMP:20260421T182915
CREATED:20250105T180255Z
LAST-MODIFIED:20250105T180255Z
UID:4541-1745665200-1745668800@feuerwehr.pfoerring.de
SUMMARY:Jugendübung
DESCRIPTION:
URL:https://feuerwehr.pfoerring.de/event/jugenduebung-10/
LOCATION:Feuerwehrgerätehaus\, Mittersteigweg 6\, Pförring\, Bayern\, 85104\, Deutschland
CATEGORIES:Jugend
END:VEVENT
BEGIN:VEVENT
DTSTART;TZID=Europe/Berlin:20250426T140000
DTEND;TZID=Europe/Berlin:20250426T160000
DTSTAMP:20260421T182915
CREATED:20250127T101124Z
LAST-MODIFIED:20250127T101124Z
UID:4626-1745676000-1745683200@feuerwehr.pfoerring.de
SUMMARY:Gerätewartung
DESCRIPTION:
URL:https://feuerwehr.pfoerring.de/event/geraetewartung-28/
LOCATION:Feuerwehrgerätehaus\, Mittersteigweg 6\, Pförring\, Bayern\, 85104\, Deutschland
CATEGORIES:Gerätewartung
END:VEVENT
BEGIN:VEVENT
DTSTART;TZID=Europe/Berlin:20250428T190000
DTEND;TZID=Europe/Berlin:20250428T210000
DTSTAMP:20260421T182915
CREATED:20250127T101211Z
LAST-MODIFIED:20250127T101211Z
UID:4628-1745866800-1745874000@feuerwehr.pfoerring.de
SUMMARY:AT CSA
DESCRIPTION:
URL:https://feuerwehr.pfoerring.de/event/at-csa-3/
LOCATION:Feuerwehrgerätehaus\, Mittersteigweg 6\, Pförring\, Bayern\, 85104\, Deutschland
CATEGORIES:Atemschutz
END:VEVENT
END:VCALENDAR